BEGIN:VCALENDAR
PRODID:-//hacksw/handcal//NONSGML v1.0//EN
VERSION:2.0
CALSCALE:GREGORIAN
METHOD:PUBLISH
X-WR-CALNAME:Javascript at scale
X-WR-TIMEZONE:Europe/Madrid
X-WR-CALDESC:Javascript at scale
BEGIN:VEVENT
DTSTART:20190717T173000Z
DTEND:20190717T200000Z
DTSTAMP:20190717T173000Z
UID:c541b5d389e1b677f420d4ff63edd98c@betabeers.com
CREATED:20190709T155804Z
DESCRIPTION:https://betabeers.com/en/event/javascript-at-scale-11276/
URL:https://betabeers.com/en/event/javascript-at-scale-11276/
LAST-MODIFIED:20190709T155804Z
LOCATION:FREE NOW office Plaça de Catalunya 1, Barcelona, España
SEQUENCE:0
STATUS:CONFIRMED
SUMMARY:Javascript at scale
TRANSP:OPAQUE
END:VEVENT
END:VCALENDAR
