BEGIN:VCALENDAR
PRODID:-//hacksw/handcal//NONSGML v1.0//EN
VERSION:2.0
CALSCALE:GREGORIAN
METHOD:PUBLISH
X-WR-CALNAME:Introducción al desarrollo guiado por comportamiento
X-WR-TIMEZONE:Europe/Madrid
X-WR-CALDESC:Introducción al desarrollo guiado por comportamiento
BEGIN:VEVENT
DTSTART:20130722T183000Z
DTEND:20130722T193000Z
DTSTAMP:20130722T183000Z
UID:3addef8faf6ce816f99820a38216052a@betabeers.com
CREATED:20130705T083549Z
DESCRIPTION:https://betabeers.com/en/event/introduccion-al-desarrollo-guiad
o-por-comportamiento-1108/
URL:https://betabeers.com/en/event/introduccion-al-desarrollo-guiado-por-co
mportamiento-1108/
LAST-MODIFIED:20130705T083549Z
LOCATION:Cocorocó. C/ Tejeiro 17-19, Granada, España
SEQUENCE:0
STATUS:CONFIRMED
SUMMARY:Introducción al desarrollo guiado por comportamiento
TRANSP:OPAQUE
END:VEVENT
END:VCALENDAR
