BEGIN:VCALENDAR
PRODID:-//hacksw/handcal//NONSGML v1.0//EN
VERSION:2.0
CALSCALE:GREGORIAN
METHOD:PUBLISH
X-WR-CALNAME:Cádiz WordPress Meetup - WooCommerce: Todo lo que necesitas para tu negocio online
X-WR-TIMEZONE:Europe/Madrid
X-WR-CALDESC:Cádiz WordPress Meetup - WooCommerce: Todo lo que necesitas para tu negocio online
BEGIN:VEVENT
DTSTART:20190522T170000Z
DTEND:20190522T180000Z
DTSTAMP:20190522T170000Z
UID:14db5a40d3bb7c309c3eec445a3c2fdb@betabeers.com
CREATED:20190519T224031Z
DESCRIPTION:https://betabeers.com/en/event/cadiz-wordpress-meetup-woocommer
ce-todo-lo-que-necesitas-tu-negocio-online-22-mayo-2019-10847/
URL:https://betabeers.com/en/event/cadiz-wordpress-meetup-woocommerce-todo-
lo-que-necesitas-tu-negocio-online-22-mayo-2019-10847/
LAST-MODIFIED:20190519T224031Z
LOCATION:-, Cadiz, España
SEQUENCE:0
STATUS:CONFIRMED
SUMMARY:Cádiz WordPress Meetup - WooCommerce: Todo lo que necesitas para t
u negocio online
TRANSP:OPAQUE
END:VEVENT
END:VCALENDAR
