BEGIN:VCALENDAR
PRODID:-//hacksw/handcal//NONSGML v1.0//EN
VERSION:2.0
CALSCALE:GREGORIAN
METHOD:PUBLISH
X-WR-CALNAME:Investment Readiness
X-WR-TIMEZONE:Europe/Madrid
X-WR-CALDESC:Investment Readiness
BEGIN:VEVENT
DTSTART:20130710T080000Z
DTEND:20130715T180000Z
DTSTAMP:20130710T080000Z
UID:0d1110e92197aa3d68259b84e5cbc4d4@betabeers.com
CREATED:20130626T144728Z
DESCRIPTION:https://betabeers.com/en/event/investment-readiness-1077/
URL:https://betabeers.com/en/event/investment-readiness-1077/
LAST-MODIFIED:20130626T144728Z
LOCATION:Calle Sant Joan de la Salle 42, Barcelona, España
SEQUENCE:0
STATUS:CONFIRMED
SUMMARY:Investment Readiness
TRANSP:OPAQUE
END:VEVENT
END:VCALENDAR
