BEGIN:VCALENDAR
PRODID:-//hacksw/handcal//NONSGML v1.0//EN
VERSION:2.0
CALSCALE:GREGORIAN
METHOD:PUBLISH
X-WR-CALNAME:Symfony Barcelona
X-WR-TIMEZONE:Europe/Madrid
X-WR-CALDESC:Symfony Barcelona
BEGIN:VEVENT
DTSTART:20120215T180000Z
DTEND:20120215T200000Z
DTSTAMP:20120215T180000Z
UID:3d9b562322005e50ceb2fb7f9a4af544@betabeers.com
CREATED:20120210T105149Z
DESCRIPTION:https://betabeers.com/en/event/symfony-barcelona-106/
URL:https://betabeers.com/en/event/symfony-barcelona-106/
LAST-MODIFIED:20120210T105149Z
LOCATION:Por determinar, Barcelona, España
SEQUENCE:0
STATUS:CONFIRMED
SUMMARY:Symfony Barcelona
TRANSP:OPAQUE
END:VEVENT
END:VCALENDAR
