BEGIN:VCALENDAR
PRODID:-//hacksw/handcal//NONSGML v1.0//EN
VERSION:2.0
CALSCALE:GREGORIAN
METHOD:PUBLISH
X-WR-CALNAME:Tomelloso Tech - Encuentro comunidad Micro:bit
X-WR-TIMEZONE:Europe/Madrid
X-WR-CALDESC:Tomelloso Tech - Encuentro comunidad Micro:bit
BEGIN:VEVENT
DTSTART:20190427T090000Z
DTEND:20190427T100000Z
DTSTAMP:20190427T090000Z
UID:9bc5d6ba022391e31b1d66b008f8811a@betabeers.com
CREATED:20190414T225237Z
DESCRIPTION:https://betabeers.com/en/event/tomelloso-tech-encuentro-comunid
ad-microbit-27-abril-2019-10549/
URL:https://betabeers.com/en/event/tomelloso-tech-encuentro-comunidad-micro
bit-27-abril-2019-10549/
LAST-MODIFIED:20190414T225237Z
LOCATION:-, Tomelloso, España
SEQUENCE:0
STATUS:CONFIRMED
SUMMARY:Tomelloso Tech - Encuentro comunidad Micro:bit
TRANSP:OPAQUE
END:VEVENT
END:VCALENDAR
