BEGIN:VCALENDAR
PRODID:-//hacksw/handcal//NONSGML v1.0//EN
VERSION:2.0
CALSCALE:GREGORIAN
METHOD:PUBLISH
X-WR-CALNAME:Hackathon Express
X-WR-TIMEZONE:Europe/Madrid
X-WR-CALDESC:Hackathon Express
BEGIN:VEVENT
DTSTART:20130706T080000Z
DTEND:20130706T090000Z
DTSTAMP:20130706T080000Z
UID:6a7cdf9db17fd2ed388fa9cb441d9e2e@betabeers.com
CREATED:20130621T141208Z
DESCRIPTION:https://betabeers.com/en/event/hackathon-express-6-julio-2013-1
054/
URL:https://betabeers.com/en/event/hackathon-express-6-julio-2013-1054/
LAST-MODIFIED:20130621T141208Z
LOCATION:9 de Julio 1449 , Corrientes, Argentina., Corrientes, Argentina
SEQUENCE:0
STATUS:CONFIRMED
SUMMARY:Hackathon Express
TRANSP:OPAQUE
END:VEVENT
END:VCALENDAR
