BEGIN:VCALENDAR
PRODID:-//hacksw/handcal//NONSGML v1.0//EN
VERSION:2.0
CALSCALE:GREGORIAN
METHOD:PUBLISH
X-WR-CALNAME:WordPress Meetup Chiclana - Saca el máximo partido a Gutenberg y lleva tus entradas a otro nivel
X-WR-TIMEZONE:Europe/Madrid
X-WR-CALDESC:WordPress Meetup Chiclana - Saca el máximo partido a Gutenberg y lleva tus entradas a otro nivel
BEGIN:VEVENT
DTSTART:20190402T180000Z
DTEND:20190402T190000Z
DTSTAMP:20190402T180000Z
UID:e69cc729ac377114b9feb9a8241d68f8@betabeers.com
CREATED:20190331T224625Z
DESCRIPTION:https://betabeers.com/en/event/wordpress-meetup-chiclana-saca-e
l-maximo-partido-a-gutenberg-lleva-tus-entradas-a-otro-nivel-2-abril-2019-1
0400/
URL:https://betabeers.com/en/event/wordpress-meetup-chiclana-saca-el-maximo
-partido-a-gutenberg-lleva-tus-entradas-a-otro-nivel-2-abril-2019-10400/
LAST-MODIFIED:20190331T224625Z
LOCATION:s/n, Calle Severo Ochoa, 11130 Chiclana de la Frontera, Cádiz, Ch
iclana de la Frontera, España
SEQUENCE:0
STATUS:CONFIRMED
SUMMARY:WordPress Meetup Chiclana - Saca el máximo partido a Gutenberg y l
leva tus entradas a otro nivel
TRANSP:OPAQUE
END:VEVENT
END:VCALENDAR
