BEGIN:VCALENDAR
PRODID:-//hacksw/handcal//NONSGML v1.0//EN
VERSION:2.0
CALSCALE:GREGORIAN
METHOD:PUBLISH
X-WR-CALNAME:Taller SeedRocket: De técnicos, tecnologías, negocios y unicornios
X-WR-TIMEZONE:Europe/Madrid
X-WR-CALDESC:Taller SeedRocket: De técnicos, tecnologías, negocios y unicornios
BEGIN:VEVENT
DTSTART:20130626T180000Z
DTEND:20130626T190000Z
DTSTAMP:20130626T180000Z
UID:8c9591bf7c7f9414e7edb36651ddda80@betabeers.com
CREATED:20130614T141148Z
DESCRIPTION:https://betabeers.com/en/event/taller-seedrocket-de-tecnicos-te
cnologias-negocios-unicornios-26-junio-2013-1031/
URL:https://betabeers.com/en/event/taller-seedrocket-de-tecnicos-tecnologia
s-negocios-unicornios-26-junio-2013-1031/
LAST-MODIFIED:20130614T141148Z
LOCATION:Carrer Llacuna, 162, Barcelona, España
SEQUENCE:0
STATUS:CONFIRMED
SUMMARY:Taller SeedRocket: De técnicos, tecnologías, negocios y unicornio
s
TRANSP:OPAQUE
END:VEVENT
END:VCALENDAR
