BEGIN:VCALENDAR
PRODID:-//hacksw/handcal//NONSGML v1.0//EN
VERSION:2.0
CALSCALE:GREGORIAN
METHOD:PUBLISH
X-WR-CALNAME:decharlas - GDG Castellón - Mamá, quiero ser youtuber (de Ciencia)
X-WR-TIMEZONE:Europe/Madrid
X-WR-CALDESC:decharlas - GDG Castellón - Mamá, quiero ser youtuber (de Ciencia)
BEGIN:VEVENT
DTSTART:20190228T180000Z
DTEND:20190228T190000Z
DTSTAMP:20190228T180000Z
UID:4b68d129b56ba91cbd5f24ea790f2583@betabeers.com
CREATED:20190224T225452Z
DESCRIPTION:https://betabeers.com/en/event/decharlas-gdg-castellon-mama-qui
ero-ser-youtuber-de-ciencia-10088/
URL:https://betabeers.com/en/event/decharlas-gdg-castellon-mama-quiero-ser-
youtuber-de-ciencia-10088/
LAST-MODIFIED:20190224T225452Z
LOCATION:Universitat Jaume I, Castello de la Plana, España
SEQUENCE:0
STATUS:CONFIRMED
SUMMARY:decharlas - GDG Castellón - Mamá, quiero ser youtuber (de Ciencia
)
TRANSP:OPAQUE
END:VEVENT
END:VCALENDAR
